BEGIN:VCALENDAR
VERSION:2.0
PRODID:-//hacksw/handcal//NONSGML v1.0//EN
BEGIN:VEVENT
SUMMARY:Travaux sur le terrain
UID:7f26bf3f-9208-4cc6-9ea0-8d90014ca0d3
DTSTART:20260411T070000Z
DTEND:20260411T220000Z
LOCATION:Localisation   
CATEGORIES:Administratif
STATUS:
DESCRIPTION:<p>Rendez-vous sur le terrain pour la refection de la
 ciblerie des 50 m et couverture des buttes.</p>
URL;VALUE=URI:https://www.ciearchersdelatour-montlhery.com/evenements/2026/04/11/travaux-sur-le-terrain-2435809
END:VEVENT
END:VCALENDAR
